Package: BOBaFIT Version: 1.2.0 Command: F:\biocbuild\bbs-3.16-bioc\R\bin\R.exe CMD check --no-multiarch --install=check:BOBaFIT.install-out.txt --library=F:\biocbuild\bbs-3.16-bioc\R\library --no-vignettes --timings BOBaFIT_1.2.0.tar.gz StartedAt: 2023-04-10 23:28:44 -0400 (Mon, 10 Apr 2023) EndedAt: 2023-04-10 23:35:19 -0400 (Mon, 10 Apr 2023) EllapsedTime: 394.4 seconds RetCode: 0 Status: WARNINGS CheckDir: BOBaFIT.Rcheck Warnings: 1