Package: BOBaFIT Version: 1.2.0 Command: chmod a+r BOBaFIT -R && F:\biocbuild\bbs-3.16-bioc\R\bin\R.exe CMD build --keep-empty-dirs --no-resave-data BOBaFIT StartedAt: 2023-04-10 17:27:56 -0400 (Mon, 10 Apr 2023) EndedAt: 2023-04-10 17:29:47 -0400 (Mon, 10 Apr 2023) EllapsedTime: 110.8 seconds RetCode: 0 Status: OK PackageFile: BOBaFIT_1.2.0.tar.gz PackageFileSize: 2.498 MiB