Package: BOBaFIT Version: 1.2.0 Command: rm -rf BOBaFIT.buildbin-libdir && mkdir BOBaFIT.buildbin-libdir && F:\biocbuild\bbs-3.16-bioc\R\bin\R.exe CMD INSTALL --build --library=BOBaFIT.buildbin-libdir BOBaFIT_1.2.0.tar.gz StartedAt: 2023-04-11 07:39:10 -0400 (Tue, 11 Apr 2023) EndedAt: 2023-04-11 07:40:16 -0400 (Tue, 11 Apr 2023) EllapsedTime: 65.7 seconds RetCode: 0 Status: OK PackageFile: BOBaFIT_1.2.0.zip PackageFileSize: 2.451 MiB