Package: BOBaFIT Version: 1.2.0 Command: /home/biocbuild/bbs-3.16-bioc/R/bin/R CMD build --keep-empty-dirs --no-resave-data BOBaFIT StartedAt: 2023-04-10 16:14:16 -0400 (Mon, 10 Apr 2023) EndedAt: 2023-04-10 16:15:51 -0400 (Mon, 10 Apr 2023) EllapsedTime: 94.7 seconds RetCode: 0 Status: OK PackageFile: BOBaFIT_1.2.0.tar.gz PackageFileSize: 2.498 MiB