Package: BOBaFIT Version: 1.2.0 Command: /Library/Frameworks/R.framework/Resources/bin/R CMD check --install=check:BOBaFIT.install-out.txt --library=/Library/Frameworks/R.framework/Resources/library --no-vignettes --timings BOBaFIT_1.2.0.tar.gz StartedAt: 2023-04-10 19:07:35 -0400 (Mon, 10 Apr 2023) EndedAt: 2023-04-10 19:14:10 -0400 (Mon, 10 Apr 2023) EllapsedTime: 395.2 seconds RetCode: 0 Status: WARNINGS CheckDir: BOBaFIT.Rcheck Warnings: 1