Package: BHC Version: 1.50.0 Command: /home/biocbuild/bbs-3.16-bioc/R/bin/R CMD check --install=check:BHC.install-out.txt --library=/home/biocbuild/bbs-3.16-bioc/R/site-library --timings BHC_1.50.0.tar.gz StartedAt: 2023-04-10 19:12:46 -0400 (Mon, 10 Apr 2023) EndedAt: 2023-04-10 19:13:04 -0400 (Mon, 10 Apr 2023) EllapsedTime: 18.3 seconds RetCode: 0 Status: OK CheckDir: BHC.Rcheck Warnings: 0