Package: BHC Version: 1.49.0 Command: /Library/Frameworks/R.framework/Resources/bin/R CMD INSTALL BHC StartedAt: 2022-07-10 16:05:35 -0400 (Sun, 10 Jul 2022) EndedAt: 2022-07-10 16:06:41 -0400 (Sun, 10 Jul 2022) EllapsedTime: 66.7 seconds RetCode: 0 Status: OK