Package: BADER Version: 1.36.0 Command: chmod a+r BADER -R && F:\biocbuild\bbs-3.16-bioc\R\bin\R.exe CMD build --keep-empty-dirs --no-resave-data BADER StartedAt: 2023-04-10 17:07:49 -0400 (Mon, 10 Apr 2023) EndedAt: 2023-04-10 17:08:21 -0400 (Mon, 10 Apr 2023) EllapsedTime: 32.4 seconds RetCode: 0 Status: OK PackageFile: BADER_1.36.0.tar.gz PackageFileSize: 147.9 KiB