Package: AssessORF Version: 1.15.0 Command: /Library/Frameworks/R.framework/Resources/bin/R CMD build --keep-empty-dirs --no-resave-data AssessORF StartedAt: 2022-07-10 20:37:51 -0400 (Sun, 10 Jul 2022) EndedAt: 2022-07-10 20:38:45 -0400 (Sun, 10 Jul 2022) EllapsedTime: 53.9 seconds RetCode: 0 Status: OK PackageFile: AssessORF_1.15.0.tar.gz PackageFileSize: 4.701 MiB