Package: ArrayExpress Version: 1.57.0 Command: /Library/Frameworks/R.framework/Resources/bin/R CMD build --keep-empty-dirs --no-resave-data ArrayExpress StartedAt: 2022-07-10 20:28:52 -0400 (Sun, 10 Jul 2022) EndedAt: 2022-07-10 20:31:44 -0400 (Sun, 10 Jul 2022) EllapsedTime: 171.3 seconds RetCode: 0 Status: OK PackageFile: ArrayExpress_1.57.0.tar.gz PackageFileSize: 136.8 KiB