Package: AnVILBilling Version: 1.8.0 Command: /Library/Frameworks/R.framework/Resources/bin/R CMD check --install=check:AnVILBilling.install-out.txt --library=/Library/Frameworks/R.framework/Resources/library --no-vignettes --timings AnVILBilling_1.8.0.tar.gz StartedAt: 2023-04-10 18:48:12 -0400 (Mon, 10 Apr 2023) EndedAt: 2023-04-10 18:49:14 -0400 (Mon, 10 Apr 2023) EllapsedTime: 62.5 seconds RetCode: 0 Status: OK CheckDir: AnVILBilling.Rcheck Warnings: 0