Package: AlpsNMR Version: 4.0.4 Command: /Library/Frameworks/R.framework/Resources/bin/R CMD build --keep-empty-dirs --no-resave-data AlpsNMR StartedAt: 2023-04-10 15:47:01 -0400 (Mon, 10 Apr 2023) EndedAt: 2023-04-10 15:48:59 -0400 (Mon, 10 Apr 2023) EllapsedTime: 118.6 seconds RetCode: 0 Status: OK PackageFile: AlpsNMR_4.0.4.tar.gz PackageFileSize: 4.038 MiB