Package: AlphaBeta Version: 1.12.0 Command: F:\biocbuild\bbs-3.16-bioc\R\bin\R.exe CMD check --no-multiarch --install=check:AlphaBeta.install-out.txt --library=F:\biocbuild\bbs-3.16-bioc\R\library --no-vignettes --timings AlphaBeta_1.12.0.tar.gz StartedAt: 2023-04-10 22:46:41 -0400 (Mon, 10 Apr 2023) EndedAt: 2023-04-10 22:53:46 -0400 (Mon, 10 Apr 2023) EllapsedTime: 424.5 seconds RetCode: 0 Status: OK CheckDir: AlphaBeta.Rcheck Warnings: 0