Package: AlphaBeta Version: 1.12.0 Command: rm -rf AlphaBeta.buildbin-libdir && mkdir AlphaBeta.buildbin-libdir && F:\biocbuild\bbs-3.16-bioc\R\bin\R.exe CMD INSTALL --build --library=AlphaBeta.buildbin-libdir AlphaBeta_1.12.0.tar.gz StartedAt: 2023-04-11 07:32:24 -0400 (Tue, 11 Apr 2023) EndedAt: 2023-04-11 07:32:51 -0400 (Tue, 11 Apr 2023) EllapsedTime: 27.2 seconds RetCode: 0 Status: OK PackageFile: AlphaBeta_1.12.0.zip PackageFileSize: 2.671 MiB