Package: AUCell Version: 1.20.2 Command: chmod a+r AUCell -R && F:\biocbuild\bbs-3.16-bioc\R\bin\R.exe CMD build --keep-empty-dirs --no-resave-data AUCell StartedAt: 2023-04-10 17:06:29 -0400 (Mon, 10 Apr 2023) EndedAt: 2023-04-10 17:08:52 -0400 (Mon, 10 Apr 2023) EllapsedTime: 142.5 seconds RetCode: 0 Status: OK PackageFile: AUCell_1.20.2.tar.gz PackageFileSize: 965.8 KiB