Package: AUCell Version: 1.19.1 Command: rm -rf AUCell.buildbin-libdir && mkdir AUCell.buildbin-libdir && /Users/biocbuild/BBS/utils/build-universal.sh AUCell_1.19.1.tar.gz /Library/Frameworks/R.framework/Resources/bin/R AUCell.buildbin-libdir StartedAt: 2022-07-07 07:29:57 -0400 (Thu, 07 Jul 2022) EndedAt: 2022-07-07 07:30:55 -0400 (Thu, 07 Jul 2022) EllapsedTime: 58.2 seconds RetCode: 0 Status: OK PackageFile: AUCell_1.19.1.tgz PackageFileSize: 2.074 MiB