Package: ASSIGN Version: 1.34.0 Command: /home/biocbuild/bbs-3.16-bioc/R/bin/R CMD INSTALL ASSIGN StartedAt: 2023-04-10 15:31:55 -0400 (Mon, 10 Apr 2023) EndedAt: 2023-04-10 15:31:59 -0400 (Mon, 10 Apr 2023) EllapsedTime: 3.9 seconds RetCode: 0 Status: OK