Package: ASSIGN Version: 1.33.0 Command: /Library/Frameworks/R.framework/Resources/bin/R CMD build --keep-empty-dirs --no-resave-data ASSIGN StartedAt: 2022-07-10 20:39:00 -0400 (Sun, 10 Jul 2022) EndedAt: 2022-07-10 20:39:08 -0400 (Sun, 10 Jul 2022) EllapsedTime: 7.4 seconds RetCode: 0 Status: OK PackageFile: ASSIGN_1.33.0.tar.gz PackageFileSize: 1.607 MiB