Package: ASICS Version: 2.14.0 Command: rm -rf ASICS.buildbin-libdir && mkdir ASICS.buildbin-libdir && F:\biocbuild\bbs-3.16-bioc\R\bin\R.exe CMD INSTALL --build --library=ASICS.buildbin-libdir ASICS_2.14.0.tar.gz StartedAt: 2023-04-11 07:33:59 -0400 (Tue, 11 Apr 2023) EndedAt: 2023-04-11 07:34:48 -0400 (Tue, 11 Apr 2023) EllapsedTime: 48.6 seconds RetCode: 0 Status: OK PackageFile: ASICS_2.14.0.zip PackageFileSize: 4.177 MiB