Package: ASICS Version: 2.14.0 Command: /home/biocbuild/bbs-3.16-bioc/R/bin/R CMD build --keep-empty-dirs --no-resave-data ASICS StartedAt: 2023-04-10 16:04:33 -0400 (Mon, 10 Apr 2023) EndedAt: 2023-04-10 16:07:13 -0400 (Mon, 10 Apr 2023) EllapsedTime: 159.6 seconds RetCode: 0 Status: OK PackageFile: ASICS_2.14.0.tar.gz PackageFileSize: 3.206 MiB