Package: ASICS Version: 2.14.0 Command: /Library/Frameworks/R.framework/Resources/bin/R CMD build --keep-empty-dirs --no-resave-data ASICS StartedAt: 2023-04-10 15:49:12 -0400 (Mon, 10 Apr 2023) EndedAt: 2023-04-10 15:52:07 -0400 (Mon, 10 Apr 2023) EllapsedTime: 175.2 seconds RetCode: 0 Status: OK PackageFile: ASICS_2.14.0.tar.gz PackageFileSize: 3.206 MiB