Package: ASICS Version: 2.14.0 Command: rm -rf ASICS.buildbin-libdir && mkdir ASICS.buildbin-libdir && /Users/biocbuild/BBS/utils/build-universal.sh ASICS_2.14.0.tar.gz /Library/Frameworks/R.framework/Resources/bin/R ASICS.buildbin-libdir StartedAt: 2023-04-10 23:32:25 -0400 (Mon, 10 Apr 2023) EndedAt: 2023-04-10 23:33:05 -0400 (Mon, 10 Apr 2023) EllapsedTime: 40.1 seconds RetCode: 0 Status: OK PackageFile: ASICS_2.14.0.tgz PackageFileSize: 4.168 MiB