Package: ASICS Version: 2.13.1 Command: /Library/Frameworks/R.framework/Resources/bin/R CMD INSTALL ASICS StartedAt: 2022-07-10 19:03:01 -0400 (Sun, 10 Jul 2022) EndedAt: 2022-07-10 19:04:08 -0400 (Sun, 10 Jul 2022) EllapsedTime: 66.6 seconds RetCode: 0 Status: OK