Package: ASICS Version: 2.13.1 Command: rm -rf ASICS.buildbin-libdir && mkdir ASICS.buildbin-libdir && /Users/biocbuild/BBS/utils/build-universal.sh ASICS_2.13.1.tar.gz /Library/Frameworks/R.framework/Resources/bin/R ASICS.buildbin-libdir StartedAt: 2022-07-07 07:29:31 -0400 (Thu, 07 Jul 2022) EndedAt: 2022-07-07 07:30:36 -0400 (Thu, 07 Jul 2022) EllapsedTime: 64.3 seconds RetCode: 0 Status: OK PackageFile: ASICS_2.13.1.tgz PackageFileSize: 4.117 MiB