Package: ASAFE Version: 1.23.0 Command: /Library/Frameworks/R.framework/Resources/bin/R CMD INSTALL ASAFE StartedAt: 2022-07-10 15:07:17 -0400 (Sun, 10 Jul 2022) EndedAt: 2022-07-10 15:07:19 -0400 (Sun, 10 Jul 2022) EllapsedTime: 2.9 seconds RetCode: 0 Status: OK