Package: ASAFE Version: 1.23.0 Command: /Library/Frameworks/R.framework/Resources/bin/R CMD build --keep-empty-dirs --no-resave-data ASAFE StartedAt: 2022-07-10 20:33:14 -0400 (Sun, 10 Jul 2022) EndedAt: 2022-07-10 20:33:23 -0400 (Sun, 10 Jul 2022) EllapsedTime: 8.7 seconds RetCode: 0 Status: OK PackageFile: ASAFE_1.23.0.tar.gz PackageFileSize: 401.5 KiB