Package: ANCOMBC Version: 2.0.3 Command: chmod a+r ANCOMBC -R && F:\biocbuild\bbs-3.16-bioc\R\bin\R.exe CMD build --keep-empty-dirs --no-resave-data ANCOMBC StartedAt: 2023-04-10 17:00:27 -0400 (Mon, 10 Apr 2023) EndedAt: 2023-04-10 17:14:14 -0400 (Mon, 10 Apr 2023) EllapsedTime: 826.2 seconds RetCode: 0 Status: OK PackageFile: ANCOMBC_2.0.3.tar.gz PackageFileSize: 801.7 KiB