Package: AMOUNTAIN Version: 1.24.0 Command: F:\biocbuild\bbs-3.16-bioc\R\bin\R.exe CMD check --no-multiarch --install=check:AMOUNTAIN.install-out.txt --library=F:\biocbuild\bbs-3.16-bioc\R\library --no-vignettes --timings AMOUNTAIN_1.24.0.tar.gz StartedAt: 2023-04-10 22:47:23 -0400 (Mon, 10 Apr 2023) EndedAt: 2023-04-10 22:47:52 -0400 (Mon, 10 Apr 2023) EllapsedTime: 28.3 seconds RetCode: 0 Status: OK CheckDir: AMOUNTAIN.Rcheck Warnings: 0