Package: AMOUNTAIN Version: 1.24.0 Command: chmod a+r AMOUNTAIN -R && F:\biocbuild\bbs-3.16-bioc\R\bin\R.exe CMD build --keep-empty-dirs --no-resave-data AMOUNTAIN StartedAt: 2023-04-10 17:00:20 -0400 (Mon, 10 Apr 2023) EndedAt: 2023-04-10 17:00:42 -0400 (Mon, 10 Apr 2023) EllapsedTime: 21.9 seconds RetCode: 0 Status: OK PackageFile: AMOUNTAIN_1.24.0.tar.gz PackageFileSize: 1.119 MiB