Package: AMOUNTAIN Version: 1.24.0 Command: /Library/Frameworks/R.framework/Resources/bin/R CMD build --keep-empty-dirs --no-resave-data AMOUNTAIN StartedAt: 2023-04-10 15:47:14 -0400 (Mon, 10 Apr 2023) EndedAt: 2023-04-10 15:47:31 -0400 (Mon, 10 Apr 2023) EllapsedTime: 17.0 seconds RetCode: 0 Status: OK PackageFile: AMOUNTAIN_1.24.0.tar.gz PackageFileSize: 1.584 MiB