Package: AMOUNTAIN Version: 1.23.0 Command: /Library/Frameworks/R.framework/Resources/bin/R CMD build --keep-empty-dirs --no-resave-data AMOUNTAIN StartedAt: 2022-07-10 20:16:29 -0400 (Sun, 10 Jul 2022) EndedAt: 2022-07-10 20:16:47 -0400 (Sun, 10 Jul 2022) EllapsedTime: 17.3 seconds RetCode: 0 Status: OK PackageFile: AMOUNTAIN_1.23.0.tar.gz PackageFileSize: 1.606 MiB