Package: AMOUNTAIN Version: 1.23.0 Command: rm -rf AMOUNTAIN.buildbin-libdir && mkdir AMOUNTAIN.buildbin-libdir && /Users/biocbuild/BBS/utils/build-universal.sh AMOUNTAIN_1.23.0.tar.gz /Library/Frameworks/R.framework/Resources/bin/R AMOUNTAIN.buildbin-libdir StartedAt: 2022-07-07 07:28:00 -0400 (Thu, 07 Jul 2022) EndedAt: 2022-07-07 07:28:09 -0400 (Thu, 07 Jul 2022) EllapsedTime: 8.6 seconds RetCode: 1 Status: ERROR PackageFile: None PackageFileSize: NA