Package: ALDEx2 Version: 1.30.0 Command: chmod a+r ALDEx2 -R && F:\biocbuild\bbs-3.16-bioc\R\bin\R.exe CMD build --keep-empty-dirs --no-resave-data ALDEx2 StartedAt: 2023-04-10 16:59:21 -0400 (Mon, 10 Apr 2023) EndedAt: 2023-04-10 17:00:26 -0400 (Mon, 10 Apr 2023) EllapsedTime: 64.9 seconds RetCode: 0 Status: OK PackageFile: ALDEx2_1.30.0.tar.gz PackageFileSize: 589.3 KiB