Package: ACME Version: 2.53.0 Command: /Library/Frameworks/R.framework/Resources/bin/R CMD INSTALL ACME StartedAt: 2022-07-10 15:22:48 -0400 (Sun, 10 Jul 2022) EndedAt: 2022-07-10 15:22:58 -0400 (Sun, 10 Jul 2022) EllapsedTime: 10.0 seconds RetCode: 0 Status: OK