Package: ABarray Version: 1.66.0 Command: /home/biocbuild/bbs-3.16-bioc/R/bin/R CMD check --install=check:ABarray.install-out.txt --library=/home/biocbuild/bbs-3.16-bioc/R/site-library --timings ABarray_1.66.0.tar.gz StartedAt: 2023-04-10 18:55:10 -0400 (Mon, 10 Apr 2023) EndedAt: 2023-04-10 18:56:08 -0400 (Mon, 10 Apr 2023) EllapsedTime: 58.7 seconds RetCode: 0 Status: OK CheckDir: ABarray.Rcheck Warnings: 0