Package: ABarray Version: 1.66.0 Command: /Library/Frameworks/R.framework/Resources/bin/R CMD INSTALL ABarray StartedAt: 2023-04-10 15:08:58 -0400 (Mon, 10 Apr 2023) EndedAt: 2023-04-10 15:09:11 -0400 (Mon, 10 Apr 2023) EllapsedTime: 13.2 seconds RetCode: 0 Status: OK