Package: ABarray Version: 1.66.0 Command: rm -rf ABarray.buildbin-libdir && mkdir ABarray.buildbin-libdir && /Users/biocbuild/BBS/utils/build-universal.sh ABarray_1.66.0.tar.gz /Library/Frameworks/R.framework/Resources/bin/R ABarray.buildbin-libdir StartedAt: 2023-04-10 23:31:39 -0400 (Mon, 10 Apr 2023) EndedAt: 2023-04-10 23:31:55 -0400 (Mon, 10 Apr 2023) EllapsedTime: 15.8 seconds RetCode: 0 Status: OK PackageFile: ABarray_1.66.0.tgz PackageFileSize: 744.8 KiB