Package: ABarray Version: 1.65.0 Command: /Library/Frameworks/R.framework/Resources/bin/R CMD build --keep-empty-dirs --no-resave-data ABarray StartedAt: 2022-07-10 19:53:56 -0400 (Sun, 10 Jul 2022) EndedAt: 2022-07-10 19:54:15 -0400 (Sun, 10 Jul 2022) EllapsedTime: 18.4 seconds RetCode: 0 Status: OK PackageFile: ABarray_1.65.0.tar.gz PackageFileSize: 684.1 KiB