Package: rnaseqDTU Version: 1.16.0 Command: /Library/Frameworks/R.framework/Resources/bin/R CMD build --keep-empty-dirs --no-resave-data rnaseqDTU StartedAt: 2022-10-18 08:10:43 -0400 (Tue, 18 Oct 2022) EndedAt: 2022-10-18 08:13:31 -0400 (Tue, 18 Oct 2022) EllapsedTime: 167.4 seconds RetCode: 0 Status: OK PackageFile: rnaseqDTU_1.16.0.tar.gz PackageFileSize: 8.69 MiB