Package: methylationArrayAnalysis Version: 1.20.0 Command: /home/biocbuild/bbs-3.15-bioc/R/bin/R CMD build --keep-empty-dirs --no-resave-data methylationArrayAnalysis StartedAt: 2022-10-18 08:02:13 -0400 (Tue, 18 Oct 2022) EndedAt: 2022-10-18 08:10:49 -0400 (Tue, 18 Oct 2022) EllapsedTime: 516.6 seconds RetCode: 0 Status: OK PackageFile: methylationArrayAnalysis_1.20.0.tar.gz PackageFileSize: 218.2 MiB