Package: methylationArrayAnalysis Version: 1.20.0 Command: /Library/Frameworks/R.framework/Resources/bin/R CMD build --keep-empty-dirs --no-resave-data methylationArrayAnalysis StartedAt: 2022-10-18 08:08:18 -0400 (Tue, 18 Oct 2022) EndedAt: 2022-10-18 08:19:07 -0400 (Tue, 18 Oct 2022) EllapsedTime: 649.3 seconds RetCode: 0 Status: OK PackageFile: methylationArrayAnalysis_1.20.0.tar.gz PackageFileSize: 218.2 MiB