git_url: https://git.bioconductor.org/packages/methylationArrayAnalysis git_branch: RELEASE_3_15 git_last_commit: 44bf638 git_last_commit_date: 2022-04-26 12:40:42 -0400 (Tue, 26 Apr 2022) Package: methylationArrayAnalysis Version: 1.20.0 Maintainer: Jovana Maksimovic MaintainerEmail: jovana.maksimovic at mcri.edu.au