Package: ExpHunterSuite Version: 1.4.0 Command: /Library/Frameworks/R.framework/Resources/bin/R CMD INSTALL ExpHunterSuite StartedAt: 2022-10-18 08:01:37 -0400 (Tue, 18 Oct 2022) EndedAt: 2022-10-18 08:02:31 -0400 (Tue, 18 Oct 2022) EllapsedTime: 54.7 seconds RetCode: 0 Status: OK