Package: EGSEA123 Version: 1.20.0 Command: /Library/Frameworks/R.framework/Resources/bin/R CMD build --keep-empty-dirs --no-resave-data EGSEA123 StartedAt: 2022-10-18 08:04:04 -0400 (Tue, 18 Oct 2022) EndedAt: 2022-10-18 08:09:49 -0400 (Tue, 18 Oct 2022) EllapsedTime: 345.3 seconds RetCode: 0 Status: OK PackageFile: EGSEA123_1.20.0.tar.gz PackageFileSize: 1.878 MiB