Package: synapterdata Version: 1.34.0 Command: /home/biocbuild/bbs-3.15-bioc/R/bin/R CMD build --keep-empty-dirs --no-resave-data synapterdata StartedAt: 2022-10-18 10:41:17 -0400 (Tue, 18 Oct 2022) EndedAt: 2022-10-18 10:41:43 -0400 (Tue, 18 Oct 2022) EllapsedTime: 26.3 seconds RetCode: 0 Status: OK PackageFile: synapterdata_1.34.0.tar.gz PackageFileSize: 418.4 MiB