git_url: https://git.bioconductor.org/packages/synapterdata git_branch: RELEASE_3_15 git_last_commit: 6e04bfe git_last_commit_date: 2022-04-26 13:02:57 -0400 (Tue, 26 Apr 2022) Package: synapterdata Version: 1.34.0 Maintainer: Laurent Gatto MaintainerEmail: lg390 at cam.ac.uk