Package: pumadata Version: 2.31.0 Command: /home/biocbuild/bbs-3.15-data-experiment/R/bin/R CMD build --keep-empty-dirs --no-resave-data pumadata StartedAt: 2022-02-17 06:13:09 -0500 (Thu, 17 Feb 2022) EndedAt: 2022-02-17 06:13:56 -0500 (Thu, 17 Feb 2022) EllapsedTime: 46.8 seconds RetCode: 0 Status: OK PackageFile: pumadata_2.31.0.tar.gz PackageFileSize: 101.7 MiB