Package: pumadata Version: 2.32.0 Command: /home/biocbuild/bbs-3.15-bioc/R/bin/R CMD check --install=check:pumadata.install-out.txt --library=/home/biocbuild/bbs-3.15-bioc/R/library --no-vignettes --timings pumadata_2.32.0.tar.gz StartedAt: 2022-10-18 11:37:24 -0400 (Tue, 18 Oct 2022) EndedAt: 2022-10-18 11:39:52 -0400 (Tue, 18 Oct 2022) EllapsedTime: 147.6 seconds RetCode: 0 Status: OK CheckDir: pumadata.Rcheck Warnings: 0