Package: pumadata Version: 2.32.0 Command: /home/biocbuild/bbs-3.15-bioc/R/bin/R CMD build --keep-empty-dirs --no-resave-data pumadata StartedAt: 2022-10-18 10:35:54 -0400 (Tue, 18 Oct 2022) EndedAt: 2022-10-18 10:36:28 -0400 (Tue, 18 Oct 2022) EllapsedTime: 34.4 seconds RetCode: 0 Status: OK PackageFile: pumadata_2.32.0.tar.gz PackageFileSize: 101.6 MiB