git_url: https://git.bioconductor.org/packages/msqc1 git_branch: RELEASE_3_15 git_last_commit: b78a5ca git_last_commit_date: 2022-04-26 13:23:22 -0400 (Tue, 26 Apr 2022) Package: msqc1 Version: 1.24.0 Maintainer: Christian Panse MaintainerEmail: cp at fgcz.ethz.ch